BEGIN:VCALENDAR
VERSION:2.0
PRODID:icalendar-ruby
CALSCALE:GREGORIAN
METHOD:PUBLISH
BEGIN:VEVENT
DTSTAMP:20260420T081356Z
UID:6-598461@brusharborchurch.org
DTSTART:20260729T230000Z
DTEND:20260730T010000Z
CLASS:PUBLIC
CREATED:20260420T015454
DESCRIPTION:Wednesday Night Prayer Bible Study
LAST-MODIFIED:20260420T015454
LOCATION:
SUMMARY:Wednesday Night Prayer Bible Study
URL;VALUE=URI:https://www.brusharborchurch.org/events/wednesday-night-praye
 r-bible-study/2026-07-29
ATTACH;FILENAME=design-1d79e6a3-d2f7-4c4c-9150-20e3bc546e99.png;FMTTYPE=ima
 ge/png:https://dq5pwpg1q8ru0.cloudfront.net/2023/10/18/19/46/18/c0433c58-0
 b77-44da-b434-f1834076617e/design-1d79e6a3-d2f7-4c4c-9150-20e3bc546e99.png
END:VEVENT
END:VCALENDAR
